Package: POMA Version: 1.17.6 Command: E:\biocbuild\bbs-3.21-bioc\R\bin\R.exe CMD check --no-multiarch --install=check:POMA.install-out.txt --library=E:\biocbuild\bbs-3.21-bioc\R\library --no-vignettes --timings POMA_1.17.6.tar.gz StartedAt: 2025-02-10 04:11:44 -0500 (Mon, 10 Feb 2025) EndedAt: 2025-02-10 04:17:09 -0500 (Mon, 10 Feb 2025) EllapsedTime: 325.6 seconds RetCode: 0 Status: OK CheckDir: POMA.Rcheck Warnings: 0