Package: POMA Version: 1.17.6 Command: E:\biocbuild\bbs-3.21-bioc\R\bin\R.exe CMD INSTALL POMA StartedAt: 2025-02-09 16:55:44 -0500 (Sun, 09 Feb 2025) EndedAt: 2025-02-09 16:56:01 -0500 (Sun, 09 Feb 2025) EllapsedTime: 16.8 seconds RetCode: 0 Status: OK