Package: PROMISE Version: 1.59.0 Command: rm -rf PROMISE.buildbin-libdir && mkdir PROMISE.buildbin-libdir && /Users/biocbuild/BBS/utils/build-universal.sh PROMISE_1.59.0.tar.gz /Library/Frameworks/R.framework/Resources/bin/R PROMISE.buildbin-libdir StartedAt: 2025-02-09 22:25:49 -0500 (Sun, 09 Feb 2025) EndedAt: 2025-02-09 22:25:56 -0500 (Sun, 09 Feb 2025) EllapsedTime: 7.2 seconds RetCode: 0 Status: OK PackageFile: PROMISE_1.59.0.tgz PackageFileSize: 178.2 KiB