Package: PROMISE Version: 1.59.0 Command: /Library/Frameworks/R.framework/Resources/bin/R CMD INSTALL PROMISE StartedAt: 2025-02-09 15:09:31 -0500 (Sun, 09 Feb 2025) EndedAt: 2025-02-09 15:09:38 -0500 (Sun, 09 Feb 2025) EllapsedTime: 6.8 seconds RetCode: 0 Status: OK