Package: PROMISE Version: 1.59.0 Command: /home/biocbuild/R/R/bin/R CMD INSTALL PROMISE StartedAt: 2025-01-29 19:51:56 -0000 (Wed, 29 Jan 2025) EndedAt: 2025-01-29 19:52:16 -0000 (Wed, 29 Jan 2025) EllapsedTime: 19.9 seconds RetCode: 0 Status: OK