Package: PROMISE Version: 1.59.0 Command: /Library/Frameworks/R.framework/Resources/bin/R CMD build --keep-empty-dirs --no-resave-data PROMISE StartedAt: 2025-02-03 17:58:52 -0500 (Mon, 03 Feb 2025) EndedAt: 2025-02-03 17:59:19 -0500 (Mon, 03 Feb 2025) EllapsedTime: 26.4 seconds RetCode: 0 Status: OK PackageFile: PROMISE_1.59.0.tar.gz PackageFileSize: 135.4 KiB