Package: PROMISE Version: 1.59.0 Command: /Library/Frameworks/R.framework/Resources/bin/R CMD INSTALL PROMISE StartedAt: 2025-02-03 15:20:52 -0500 (Mon, 03 Feb 2025) EndedAt: 2025-02-03 15:21:18 -0500 (Mon, 03 Feb 2025) EllapsedTime: 25.8 seconds RetCode: 0 Status: OK