Package: PROMISE Version: 1.59.0 Command: /home/biocbuild/bbs-3.21-bioc/R/bin/R CMD build --keep-empty-dirs --no-resave-data PROMISE StartedAt: 2025-02-03 18:52:36 -0500 (Mon, 03 Feb 2025) EndedAt: 2025-02-03 18:53:00 -0500 (Mon, 03 Feb 2025) EllapsedTime: 24.0 seconds RetCode: 0 Status: OK PackageFile: PROMISE_1.59.0.tar.gz PackageFileSize: 135.3 KiB