Package: PROMISE Version: 1.59.0 Command: /home/biocbuild/bbs-3.21-bioc/R/bin/R CMD check --install=check:PROMISE.install-out.txt --library=/home/biocbuild/bbs-3.21-bioc/R/site-library --timings PROMISE_1.59.0.tar.gz StartedAt: 2025-02-04 01:36:56 -0500 (Tue, 04 Feb 2025) EndedAt: 2025-02-04 01:38:54 -0500 (Tue, 04 Feb 2025) EllapsedTime: 118.1 seconds RetCode: 0 Status: OK CheckDir: PROMISE.Rcheck Warnings: 0