Package: PROMISE Version: 1.59.0 Command: /home/biocbuild/bbs-3.21-bioc/R/bin/R CMD INSTALL PROMISE StartedAt: 2025-02-03 15:37:53 -0500 (Mon, 03 Feb 2025) EndedAt: 2025-02-03 15:38:07 -0500 (Mon, 03 Feb 2025) EllapsedTime: 14.0 seconds RetCode: 0 Status: OK