Package: PROMISE Version: 1.59.0 Command: rm -rf PROMISE.buildbin-libdir && mkdir PROMISE.buildbin-libdir && E:\biocbuild\bbs-3.21-bioc\R\bin\R.exe CMD INSTALL --build --library=PROMISE.buildbin-libdir PROMISE_1.59.0.tar.gz StartedAt: 2025-02-10 08:25:20 -0500 (Mon, 10 Feb 2025) EndedAt: 2025-02-10 08:25:44 -0500 (Mon, 10 Feb 2025) EllapsedTime: 23.5 seconds RetCode: 0 Status: OK PackageFile: PROMISE_1.59.0.zip PackageFileSize: 182.2 KiB