Package: PROMISE Version: 1.59.0 Command: chmod a+r PROMISE -R && E:\biocbuild\bbs-3.21-bioc\R\bin\R.exe CMD build --keep-empty-dirs --no-resave-data PROMISE StartedAt: 2025-02-09 20:53:11 -0500 (Sun, 09 Feb 2025) EndedAt: 2025-02-09 20:53:44 -0500 (Sun, 09 Feb 2025) EllapsedTime: 33.1 seconds RetCode: 0 Status: OK PackageFile: PROMISE_1.59.0.tar.gz PackageFileSize: 135.7 KiB