Package: PROMISE Version: 1.59.0 Command: E:\biocbuild\bbs-3.21-bioc\R\bin\R.exe CMD check --no-multiarch --install=check:PROMISE.install-out.txt --library=E:\biocbuild\bbs-3.21-bioc\R\library --no-vignettes --timings PROMISE_1.59.0.tar.gz StartedAt: 2025-02-10 04:17:18 -0500 (Mon, 10 Feb 2025) EndedAt: 2025-02-10 04:19:25 -0500 (Mon, 10 Feb 2025) EllapsedTime: 126.5 seconds RetCode: 0 Status: OK CheckDir: PROMISE.Rcheck Warnings: 0