Package: PROMISE Version: 1.59.0 Command: E:\biocbuild\bbs-3.21-bioc\R\bin\R.exe CMD INSTALL PROMISE StartedAt: 2025-02-09 15:48:38 -0500 (Sun, 09 Feb 2025) EndedAt: 2025-02-09 15:48:57 -0500 (Sun, 09 Feb 2025) EllapsedTime: 19.4 seconds RetCode: 0 Status: OK