Package: PROPER Version: 1.39.0 Command: rm -rf PROPER.buildbin-libdir && mkdir PROPER.buildbin-libdir && /Users/biocbuild/BBS/utils/build-universal.sh PROPER_1.39.0.tar.gz /Library/Frameworks/R.framework/Resources/bin/R PROPER.buildbin-libdir StartedAt: 2025-02-04 22:27:42 -0500 (Tue, 04 Feb 2025) EndedAt: 2025-02-04 22:27:44 -0500 (Tue, 04 Feb 2025) EllapsedTime: 2.0 seconds RetCode: 0 Status: OK PackageFile: PROPER_1.39.0.tgz PackageFileSize: 1.574 MiB