Package: PROPER Version: 1.39.0 Command: /home/biocbuild/R/R/bin/R CMD build --keep-empty-dirs --no-resave-data PROPER StartedAt: 2025-01-29 01:23:17 -0000 (Wed, 29 Jan 2025) EndedAt: 2025-01-29 01:23:26 -0000 (Wed, 29 Jan 2025) EllapsedTime: 9.0 seconds RetCode: 0 Status: OK PackageFile: PROPER_1.39.0.tar.gz PackageFileSize: 1.806 MiB