Package: PROPER Version: 1.39.0 Command: /home/biocbuild/R/R/bin/R CMD check --install=check:PROPER.install-out.txt --library=/home/biocbuild/R/R/site-library --no-vignettes --timings PROPER_1.39.0.tar.gz StartedAt: 2025-01-28 14:06:00 -0000 (Tue, 28 Jan 2025) EndedAt: 2025-01-28 14:06:44 -0000 (Tue, 28 Jan 2025) EllapsedTime: 44.0 seconds RetCode: 0 Status: WARNINGS CheckDir: PROPER.Rcheck Warnings: 2