Package: PROPER Version: 1.39.0 Command: /home/biocbuild/R/R/bin/R CMD INSTALL PROPER StartedAt: 2025-01-29 19:35:21 -0000 (Wed, 29 Jan 2025) EndedAt: 2025-01-29 19:35:35 -0000 (Wed, 29 Jan 2025) EllapsedTime: 14.5 seconds RetCode: 0 Status: OK