Package: PROPER Version: 1.39.0 Command: chmod a+r PROPER -R && E:\biocbuild\bbs-3.21-bioc\R\bin\R.exe CMD build --keep-empty-dirs --no-resave-data PROPER StartedAt: 2025-02-09 20:53:22 -0500 (Sun, 09 Feb 2025) EndedAt: 2025-02-09 20:53:39 -0500 (Sun, 09 Feb 2025) EllapsedTime: 16.9 seconds RetCode: 0 Status: OK PackageFile: PROPER_1.39.0.tar.gz PackageFileSize: 1.801 MiB