Package: PROPER Version: 1.39.0 Command: E:\biocbuild\bbs-3.21-bioc\R\bin\R.exe CMD check --no-multiarch --install=check:PROPER.install-out.txt --library=E:\biocbuild\bbs-3.21-bioc\R\library --no-vignettes --timings PROPER_1.39.0.tar.gz StartedAt: 2025-02-05 04:43:07 -0500 (Wed, 05 Feb 2025) EndedAt: 2025-02-05 04:44:05 -0500 (Wed, 05 Feb 2025) EllapsedTime: 57.7 seconds RetCode: 0 Status: WARNINGS CheckDir: PROPER.Rcheck Warnings: 2