Package: PROPS Version: 1.29.0 Command: /Library/Frameworks/R.framework/Resources/bin/R CMD INSTALL PROPS StartedAt: 2025-02-09 15:20:27 -0500 (Sun, 09 Feb 2025) EndedAt: 2025-02-09 15:20:34 -0500 (Sun, 09 Feb 2025) EllapsedTime: 7.4 seconds RetCode: 0 Status: OK