Package: PROPS Version: 1.29.0 Command: /Library/Frameworks/R.framework/Resources/bin/R CMD build --keep-empty-dirs --no-resave-data PROPS StartedAt: 2025-02-09 18:01:21 -0500 (Sun, 09 Feb 2025) EndedAt: 2025-02-09 18:04:24 -0500 (Sun, 09 Feb 2025) EllapsedTime: 182.8 seconds RetCode: 0 Status: OK PackageFile: PROPS_1.29.0.tar.gz PackageFileSize: 3.585 MiB