Package: PROPS Version: 1.29.0 Command: /Library/Frameworks/R.framework/Resources/bin/R CMD check --install=check:PROPS.install-out.txt --library=/Library/Frameworks/R.framework/Resources/library --no-vignettes --timings PROPS_1.29.0.tar.gz StartedAt: 2025-02-09 22:49:44 -0500 (Sun, 09 Feb 2025) EndedAt: 2025-02-09 22:55:04 -0500 (Sun, 09 Feb 2025) EllapsedTime: 320.3 seconds RetCode: 0 Status: OK CheckDir: PROPS.Rcheck Warnings: 0