Package: PROPS Version: 1.29.0 Command: /home/biocbuild/bbs-3.21-bioc/R/bin/R CMD check --install=check:PROPS.install-out.txt --library=/home/biocbuild/bbs-3.21-bioc/R/site-library --timings PROPS_1.29.0.tar.gz StartedAt: 2025-02-10 01:30:14 -0500 (Mon, 10 Feb 2025) EndedAt: 2025-02-10 01:37:39 -0500 (Mon, 10 Feb 2025) EllapsedTime: 444.5 seconds RetCode: 0 Status: OK CheckDir: PROPS.Rcheck Warnings: 0