Package: PROPS Version: 1.29.0 Command: /home/biocbuild/bbs-3.21-bioc/R/bin/R CMD INSTALL PROPS StartedAt: 2025-02-09 15:28:47 -0500 (Sun, 09 Feb 2025) EndedAt: 2025-02-09 15:29:07 -0500 (Sun, 09 Feb 2025) EllapsedTime: 19.5 seconds RetCode: 0 Status: OK