Package: PROPS Version: 1.29.0 Command: E:\biocbuild\bbs-3.21-bioc\R\bin\R.exe CMD INSTALL PROPS StartedAt: 2025-02-12 15:57:57 -0500 (Wed, 12 Feb 2025) EndedAt: 2025-02-12 15:58:18 -0500 (Wed, 12 Feb 2025) EllapsedTime: 21.2 seconds RetCode: 0 Status: OK