Package: PSMatch Version: 1.11.0 Command: rm -rf PSMatch.buildbin-libdir && mkdir PSMatch.buildbin-libdir && /Users/biocbuild/BBS/utils/build-universal.sh PSMatch_1.11.0.tar.gz /Library/Frameworks/R.framework/Resources/bin/R PSMatch.buildbin-libdir StartedAt: 2025-02-12 22:31:03 -0500 (Wed, 12 Feb 2025) EndedAt: 2025-02-12 22:31:17 -0500 (Wed, 12 Feb 2025) EllapsedTime: 13.2 seconds RetCode: 0 Status: OK PackageFile: PSMatch_1.11.0.tgz PackageFileSize: 1.745 MiB