Package: PSMatch Version: 1.11.0 Command: /Library/Frameworks/R.framework/Resources/bin/R CMD build --keep-empty-dirs --no-resave-data PSMatch StartedAt: 2025-02-12 17:17:57 -0500 (Wed, 12 Feb 2025) EndedAt: 2025-02-12 17:18:40 -0500 (Wed, 12 Feb 2025) EllapsedTime: 43.5 seconds RetCode: 0 Status: OK PackageFile: PSMatch_1.11.0.tar.gz PackageFileSize: 1.432 MiB