Package: PSMatch Version: 1.11.0 Command: /Library/Frameworks/R.framework/Resources/bin/R CMD check --install=check:PSMatch.install-out.txt --library=/Library/Frameworks/R.framework/Resources/library --no-vignettes --timings PSMatch_1.11.0.tar.gz StartedAt: 2025-02-12 20:51:02 -0500 (Wed, 12 Feb 2025) EndedAt: 2025-02-12 20:52:38 -0500 (Wed, 12 Feb 2025) EllapsedTime: 96.1 seconds RetCode: 0 Status: OK CheckDir: PSMatch.Rcheck Warnings: 0