Package: PSMatch Version: 1.11.0 Command: /Library/Frameworks/R.framework/Resources/bin/R CMD INSTALL PSMatch StartedAt: 2025-02-09 15:17:49 -0500 (Sun, 09 Feb 2025) EndedAt: 2025-02-09 15:18:00 -0500 (Sun, 09 Feb 2025) EllapsedTime: 11.4 seconds RetCode: 0 Status: OK