Package: PSMatch Version: 1.11.0 Command: rm -rf PSMatch.buildbin-libdir && mkdir PSMatch.buildbin-libdir && /Users/biocbuild/BBS/utils/build-universal.sh PSMatch_1.11.0.tar.gz /Library/Frameworks/R.framework/Resources/bin/R PSMatch.buildbin-libdir StartedAt: 2025-02-10 01:09:30 -0500 (Mon, 10 Feb 2025) EndedAt: 2025-02-10 01:10:13 -0500 (Mon, 10 Feb 2025) EllapsedTime: 43.8 seconds RetCode: 0 Status: OK PackageFile: PSMatch_1.11.0.tgz PackageFileSize: 1.741 MiB