Package: PSMatch Version: 1.11.0 Command: /Library/Frameworks/R.framework/Resources/bin/R CMD build --keep-empty-dirs --no-resave-data PSMatch StartedAt: 2025-02-09 18:01:40 -0500 (Sun, 09 Feb 2025) EndedAt: 2025-02-09 18:03:21 -0500 (Sun, 09 Feb 2025) EllapsedTime: 101.6 seconds RetCode: 0 Status: OK PackageFile: PSMatch_1.11.0.tar.gz PackageFileSize: 1.426 MiB