Package: PSMatch Version: 1.11.0 Command: /home/biocbuild/bbs-3.21-bioc/R/bin/R CMD INSTALL PSMatch StartedAt: 2025-02-09 15:34:13 -0500 (Sun, 09 Feb 2025) EndedAt: 2025-02-09 15:34:43 -0500 (Sun, 09 Feb 2025) EllapsedTime: 30.0 seconds RetCode: 0 Status: OK