Package: PSMatch Version: 1.11.0 Command: chmod a+r PSMatch -R && E:\biocbuild\bbs-3.21-bioc\R\bin\R.exe CMD build --keep-empty-dirs --no-resave-data PSMatch StartedAt: 2025-02-09 20:54:11 -0500 (Sun, 09 Feb 2025) EndedAt: 2025-02-09 21:05:09 -0500 (Sun, 09 Feb 2025) EllapsedTime: 657.8 seconds RetCode: 0 Status: OK PackageFile: PSMatch_1.11.0.tar.gz PackageFileSize: 1.11 MiB