Package: PSMatch Version: 1.11.0 Command: E:\biocbuild\bbs-3.21-bioc\R\bin\R.exe CMD INSTALL PSMatch StartedAt: 2025-02-09 16:48:39 -0500 (Sun, 09 Feb 2025) EndedAt: 2025-02-09 16:49:24 -0500 (Sun, 09 Feb 2025) EllapsedTime: 45.0 seconds RetCode: 0 Status: OK