Package: PWMEnrich Version: 4.43.0 Command: rm -rf PWMEnrich.buildbin-libdir && mkdir PWMEnrich.buildbin-libdir && /Users/biocbuild/BBS/utils/build-universal.sh PWMEnrich_4.43.0.tar.gz /Library/Frameworks/R.framework/Resources/bin/R PWMEnrich.buildbin-libdir StartedAt: 2025-02-04 22:27:53 -0500 (Tue, 04 Feb 2025) EndedAt: 2025-02-04 22:27:59 -0500 (Tue, 04 Feb 2025) EllapsedTime: 6.1 seconds RetCode: 0 Status: OK PackageFile: PWMEnrich_4.43.0.tgz PackageFileSize: 1.995 MiB