Package: PWMEnrich Version: 4.43.0 Command: /Library/Frameworks/R.framework/Resources/bin/R CMD INSTALL PWMEnrich StartedAt: 2025-02-04 15:05:15 -0500 (Tue, 04 Feb 2025) EndedAt: 2025-02-04 15:05:20 -0500 (Tue, 04 Feb 2025) EllapsedTime: 5.3 seconds RetCode: 0 Status: OK