Package: PWMEnrich Version: 4.43.0 Command: /Library/Frameworks/R.framework/Resources/bin/R CMD build --keep-empty-dirs --no-resave-data PWMEnrich StartedAt: 2025-02-04 17:55:10 -0500 (Tue, 04 Feb 2025) EndedAt: 2025-02-04 17:56:27 -0500 (Tue, 04 Feb 2025) EllapsedTime: 77.7 seconds RetCode: 0 Status: OK PackageFile: PWMEnrich_4.43.0.tar.gz PackageFileSize: 1.571 MiB