Package: PWMEnrich Version: 4.43.0 Command: /Library/Frameworks/R.framework/Resources/bin/R CMD check --install=check:PWMEnrich.install-out.txt --library=/Library/Frameworks/R.framework/Resources/library --no-vignettes --timings PWMEnrich_4.43.0.tar.gz StartedAt: 2025-02-04 22:34:39 -0500 (Tue, 04 Feb 2025) EndedAt: 2025-02-04 22:36:36 -0500 (Tue, 04 Feb 2025) EllapsedTime: 117.0 seconds RetCode: 0 Status: OK CheckDir: PWMEnrich.Rcheck Warnings: 0