Package: PWMEnrich Version: 4.43.0 Command: /home/biocbuild/bbs-3.21-bioc/R/bin/R CMD check --install=check:PWMEnrich.install-out.txt --library=/home/biocbuild/bbs-3.21-bioc/R/site-library --timings PWMEnrich_4.43.0.tar.gz StartedAt: 2025-02-10 01:33:47 -0500 (Mon, 10 Feb 2025) EndedAt: 2025-02-10 01:36:24 -0500 (Mon, 10 Feb 2025) EllapsedTime: 156.2 seconds RetCode: 0 Status: OK CheckDir: PWMEnrich.Rcheck Warnings: 0