Package: PWMEnrich Version: 4.43.0 Command: rm -rf PWMEnrich.buildbin-libdir && mkdir PWMEnrich.buildbin-libdir && E:\biocbuild\bbs-3.21-bioc\R\bin\R.exe CMD INSTALL --build --library=PWMEnrich.buildbin-libdir PWMEnrich_4.43.0.tar.gz StartedAt: 2025-02-10 08:26:14 -0500 (Mon, 10 Feb 2025) EndedAt: 2025-02-10 08:27:25 -0500 (Mon, 10 Feb 2025) EllapsedTime: 71.2 seconds RetCode: 0 Status: OK PackageFile: PWMEnrich_4.43.0.zip PackageFileSize: 1.991 MiB