Package: PWMEnrich Version: 4.43.0 Command: chmod a+r PWMEnrich -R && E:\biocbuild\bbs-3.21-bioc\R\bin\R.exe CMD build --keep-empty-dirs --no-resave-data PWMEnrich StartedAt: 2025-02-09 20:54:55 -0500 (Sun, 09 Feb 2025) EndedAt: 2025-02-09 20:57:04 -0500 (Sun, 09 Feb 2025) EllapsedTime: 128.4 seconds RetCode: 0 Status: OK PackageFile: PWMEnrich_4.43.0.tar.gz PackageFileSize: 1.573 MiB