Package: PWMEnrich Version: 4.43.0 Command: E:\biocbuild\bbs-3.21-bioc\R\bin\R.exe CMD INSTALL PWMEnrich StartedAt: 2025-02-09 15:49:21 -0500 (Sun, 09 Feb 2025) EndedAt: 2025-02-09 15:50:39 -0500 (Sun, 09 Feb 2025) EllapsedTime: 77.7 seconds RetCode: 0 Status: OK