Package: PanViz Version: 1.9.1 Maintainer: Luca Anholt MaintainerEmail: la1317 at ic.ac.uk git_url: https://git.bioconductor.org/packages/PanViz git_branch: devel git_last_commit: 37bd166 git_last_commit_date: 2024-12-17 11:00:52 -0500 (Tue, 17 Dec 2024)