Package: PanViz Version: 1.9.1 Command: /home/biocbuild/R/R/bin/R CMD build --keep-empty-dirs --no-resave-data PanViz StartedAt: 2025-01-29 01:11:01 -0000 (Wed, 29 Jan 2025) EndedAt: 2025-01-29 01:11:17 -0000 (Wed, 29 Jan 2025) EllapsedTime: 16.0 seconds RetCode: 1 Status: ERROR PackageFile: None PackageFileSize: NA