Package: PanomiR Version: 1.11.0 Command: /home/biocbuild/R/R/bin/R CMD build --keep-empty-dirs --no-resave-data PanomiR StartedAt: 2025-01-29 01:10:32 -0000 (Wed, 29 Jan 2025) EndedAt: 2025-01-29 01:11:07 -0000 (Wed, 29 Jan 2025) EllapsedTime: 35.1 seconds RetCode: 0 Status: OK PackageFile: PanomiR_1.11.0.tar.gz PackageFileSize: 2.005 MiB