Package: PanomiR Version: 1.11.0 Command: /Library/Frameworks/R.framework/Resources/bin/R CMD build --keep-empty-dirs --no-resave-data PanomiR StartedAt: 2025-02-12 17:45:22 -0500 (Wed, 12 Feb 2025) EndedAt: 2025-02-12 17:46:27 -0500 (Wed, 12 Feb 2025) EllapsedTime: 65.6 seconds RetCode: 0 Status: OK PackageFile: PanomiR_1.11.0.tar.gz PackageFileSize: 1.98 MiB