Package: PanomiR Version: 1.11.0 Command: /home/biocbuild/bbs-3.21-bioc/R/bin/R CMD check --install=check:PanomiR.install-out.txt --library=/home/biocbuild/bbs-3.21-bioc/R/site-library --timings PanomiR_1.11.0.tar.gz StartedAt: 2025-02-10 01:09:02 -0500 (Mon, 10 Feb 2025) EndedAt: 2025-02-10 01:10:39 -0500 (Mon, 10 Feb 2025) EllapsedTime: 97.2 seconds RetCode: 0 Status: OK CheckDir: PanomiR.Rcheck Warnings: 0