Package: PanomiR Version: 1.11.0 Command: /home/biocbuild/bbs-3.21-bioc/R/bin/R CMD INSTALL PanomiR StartedAt: 2025-02-09 15:46:43 -0500 (Sun, 09 Feb 2025) EndedAt: 2025-02-09 15:46:47 -0500 (Sun, 09 Feb 2025) EllapsedTime: 3.2 seconds RetCode: 0 Status: OK