Package: PathNet Version: 1.47.0 Command: /home/biocbuild/R/R/bin/R CMD build --keep-empty-dirs --no-resave-data PathNet StartedAt: 2025-01-29 01:11:26 -0000 (Wed, 29 Jan 2025) EndedAt: 2025-01-29 01:12:41 -0000 (Wed, 29 Jan 2025) EllapsedTime: 75.1 seconds RetCode: 0 Status: OK PackageFile: PathNet_1.47.0.tar.gz PackageFileSize: 811.5 KiB